BEGIN:VCALENDAR
VERSION:2.0
PRODID:-//BirdLife Uppland - ECPv6.15.17.1//NONSGML v1.0//EN
CALSCALE:GREGORIAN
METHOD:PUBLISH
X-ORIGINAL-URL:https://uppland.birdlife.se
X-WR-CALDESC:Händelser för BirdLife Uppland
REFRESH-INTERVAL;VALUE=DURATION:PT1H
X-Robots-Tag:noindex
X-PUBLISHED-TTL:PT1H
BEGIN:VTIMEZONE
TZID:Europe/Stockholm
BEGIN:DAYLIGHT
TZOFFSETFROM:+0100
TZOFFSETTO:+0200
TZNAME:CEST
DTSTART:20230326T010000
END:DAYLIGHT
BEGIN:STANDARD
TZOFFSETFROM:+0200
TZOFFSETTO:+0100
TZNAME:CET
DTSTART:20231029T010000
END:STANDARD
BEGIN:DAYLIGHT
TZOFFSETFROM:+0100
TZOFFSETTO:+0200
TZNAME:CEST
DTSTART:20240331T010000
END:DAYLIGHT
BEGIN:STANDARD
TZOFFSETFROM:+0200
TZOFFSETTO:+0100
TZNAME:CET
DTSTART:20241027T010000
END:STANDARD
BEGIN:DAYLIGHT
TZOFFSETFROM:+0100
TZOFFSETTO:+0200
TZNAME:CEST
DTSTART:20250330T010000
END:DAYLIGHT
BEGIN:STANDARD
TZOFFSETFROM:+0200
TZOFFSETTO:+0100
TZNAME:CET
DTSTART:20251026T010000
END:STANDARD
BEGIN:DAYLIGHT
TZOFFSETFROM:+0100
TZOFFSETTO:+0200
TZNAME:CEST
DTSTART:20260329T010000
END:DAYLIGHT
BEGIN:STANDARD
TZOFFSETFROM:+0200
TZOFFSETTO:+0100
TZNAME:CET
DTSTART:20261025T010000
END:STANDARD
END:VTIMEZONE
BEGIN:VEVENT
DTSTART;TZID=Europe/Stockholm:20250220T183000
DTEND;TZID=Europe/Stockholm:20250220T230000
DTSTAMP:20260419T143931
CREATED:20241222T120214Z
LAST-MODIFIED:20241222T120214Z
UID:10000064-1740076200-1740092400@uppland.birdlife.se
SUMMARY:Skådarpub på O’Connor’s
DESCRIPTION:Välkommen till en trevlig kväll där du får träffa andra fågelintresserade över lite god mat och dryck. Samtala om fågelupplevelser\, skådaranekdoter\, utflyktsmål och mycket annat. Ser du evenemaget på Facebook – visa gärna ditt intresse att komma\, eller kontakta PJ via mail\, då bord kan behöva bokas på O’Connor’s. \n  \nSamling: Kl 18.30 på O’Connor’s Stora Torget – Uppsala. Vid frågor kontakta perjohan.ulfendahl@telia.com (Per Johan “PJ” Ulfendahl). \n 
URL:https://uppland.birdlife.se/program/skadarpub-pa-oconnors-5/
LOCATION:O’Connor’s\, Stora TORGET\, Uppsala\, 753 20\, Sweden
CATEGORIES:Övrigt
ATTACH;FMTTYPE=image/png:https://cdn.birdlife.se/wp-content/uploads/sites/58/2024/07/AI_generated-e1721850374304.png
ORGANIZER;CN="BirdLife Uppland":MAILTO:info.uof@gmail.com
GEO:59.8582023;17.6388699
X-APPLE-STRUCTURED-LOCATION;VALUE=URI;X-ADDRESS=O’Connor’s Stora TORGET Uppsala 753 20 Sweden;X-APPLE-RADIUS=500;X-TITLE=Stora TORGET:geo:17.6388699,59.8582023
END:VEVENT
BEGIN:VEVENT
DTSTART;TZID=Europe/Stockholm:20250212T183000
DTEND;TZID=Europe/Stockholm:20250212T203000
DTSTAMP:20260419T143931
CREATED:20241222T115726Z
LAST-MODIFIED:20241222T115822Z
UID:10000063-1739385000-1739392200@uppland.birdlife.se
SUMMARY:Inneträff artbestämning
DESCRIPTION:Nästa ”inneträff – artbestämning” handlar om fåglar runt knuten\, alltså de vanligaste småfåglarna vi ser hemma där vi bor. Vi kommer bland annat att titta på mesar\,  finkar och trastar. Ulrik Lötberg är vår ciceron för kvällen. \n  \nSamling: Kl. 18:30 vid Ekmansalen på EBC (Zoologiska Institutionen\, Uppsala Universitet) Norbyvägen 14.\nKostnad: Mötet är gratis! \n 
URL:https://uppland.birdlife.se/program/innetraff-artbestamning/
LOCATION:EBC Ekmansalen\, Norbyvägen 14\, Uppsala\, 752 36\, Sverige
CATEGORIES:Föredrag
ATTACH;FMTTYPE=image/jpeg:https://cdn.birdlife.se/wp-content/uploads/sites/58/2024/07/gronfink-2-scaled.jpg
ORGANIZER;CN="BirdLife Uppland":MAILTO:info.uof@gmail.com
END:VEVENT
BEGIN:VEVENT
DTSTART;TZID=Europe/Stockholm:20250125T080000
DTEND;TZID=Europe/Stockholm:20250125T113000
DTSTAMP:20260419T143931
CREATED:20250121T210410Z
LAST-MODIFIED:20250121T210501Z
UID:10000079-1737792000-1737804600@uppland.birdlife.se
SUMMARY:Lär känna vinterfåglarna!
DESCRIPTION:Var med på ringmärkning med Naturskolan! \n  \nAlla åldrar är välkomna! Platsen är tillgänglig med rullstol och barnvagn. Aktiviteten är kostnadsfri. \n  \nHar du sett en fågel på riktigt nära håll någon gång? Nu har du chansen! Naturskolan ordnar ringmärkning av fåglar i anslutning till vår egen fågelmatning. Ringmärkningen leds av vår naturpedagog\, tillika fågelguide Frida Sjösten som berättar om hur ringmärkning går till och varför man gör det\, samt om de fåglar vi möter. Naturskolan håller med eld och grillgaller vid vår uteplats bakom huset. Där kan man värma frusna fingrar och passa på att grilla en medhavd korv eller pinnbröd. Vi bjuder på kaffe/te\, varm saft och enkelt fika. \n  \nVarmt välkomna!
URL:https://uppland.birdlife.se/program/lar-kanna-vinterfaglarna/
LOCATION:Hammarskog\, Hammarskog 95\, Uppsala\, 755 91\, Sverige
ATTACH;FMTTYPE=image/jpeg:https://cdn.birdlife.se/wp-content/uploads/sites/58/2024/01/Notvacka-Samuel-Persson-e1705529049424.jpg
ORGANIZER;CN="BirdLife Uppland":MAILTO:info.uof@gmail.com
END:VEVENT
BEGIN:VEVENT
DTSTART;TZID=Europe/Stockholm:20250124T000000
DTEND;TZID=Europe/Stockholm:20250127T000000
DTSTAMP:20260419T143931
CREATED:20241222T115318Z
LAST-MODIFIED:20241222T115506Z
UID:10000062-1737676800-1737936000@uppland.birdlife.se
SUMMARY:Vinterfåglar inpå knuten
DESCRIPTION:Sista helgen i januari räknar vi hur många fåglar vi ser vid fågelmatningar runt om i landet. Det är en av BirdLife Sveriges mest populära aktiviteter där alla kan vara med och bidra genom att enkelt rapportera vilka fåglar och hur många av respektive art man ser samtidigt vid fågelmatningen. Tack vare alla rapporter får vi en bra bild över de fåglar som tillbringar vintern hos oss. För mer information om eventet gå in på vinterfaglar.se! \n 
URL:https://uppland.birdlife.se/program/vinterfaglar-inpa-knuten/
LOCATION:Uppland\, Uppland\, Sverige
CATEGORIES:Övrigt
ATTACH;FMTTYPE=image/jpeg:https://cdn.birdlife.se/wp-content/uploads/sites/58/2024/01/Faglar_inpa_knuten_2024_slideshow.jpg
ORGANIZER;CN="BirdLife Uppland":MAILTO:info.uof@gmail.com
END:VEVENT
BEGIN:VEVENT
DTSTART;TZID=Europe/Stockholm:20250123T183000
DTEND;TZID=Europe/Stockholm:20250123T230000
DTSTAMP:20260419T143931
CREATED:20241222T115106Z
LAST-MODIFIED:20241222T115928Z
UID:10000061-1737657000-1737673200@uppland.birdlife.se
SUMMARY:Skådarpub på O’Connor’s
DESCRIPTION:Välkommen till en trevlig kväll där du får träffa andra fågelintresserade över lite god mat och dryck. Samtala om fågelupplevelser\, skådaranekdoter\, utflyktsmål och mycket annat. Ser du evenemaget på Facebook – visa gärna ditt intresse att komma\, eller kontakta PJ via mail\, då bord kan behöva bokas på O’Connor’s. \n  \nSamling: Kl 18.30 på O’Connor’s Stora Torget – Uppsala. Vid frågor kontakta perjohan.ulfendahl@telia.com (Per Johan “PJ” Ulfendahl). \n 
URL:https://uppland.birdlife.se/program/skadarpub-pa-oconnors-4/
LOCATION:O’Connor’s\, Stora TORGET\, Uppsala\, 753 20\, Sweden
CATEGORIES:Övrigt
ATTACH;FMTTYPE=image/png:https://cdn.birdlife.se/wp-content/uploads/sites/58/2024/07/AI_generated-e1721850374304.png
ORGANIZER;CN="BirdLife Uppland":MAILTO:info.uof@gmail.com
GEO:59.8582023;17.6388699
X-APPLE-STRUCTURED-LOCATION;VALUE=URI;X-ADDRESS=O’Connor’s Stora TORGET Uppsala 753 20 Sweden;X-APPLE-RADIUS=500;X-TITLE=Stora TORGET:geo:17.6388699,59.8582023
END:VEVENT
BEGIN:VEVENT
DTSTART;TZID=Europe/Stockholm:20250118T080000
DTEND;TZID=Europe/Stockholm:20250118T120000
DTSTAMP:20260419T143931
CREATED:20241024T110514Z
LAST-MODIFIED:20241222T134029Z
UID:10000058-1737187200-1737201600@uppland.birdlife.se
SUMMARY:Örnar och vinterfåglar runt Landsberga- och Rydaslätterna
DESCRIPTION:4h \nVi letar efter örnar och andra vinterfåglar på slätterna väster om Örsundsbro. Kungsörn är regelbunden i området vintertid\, fjällvråk spanar från åkerholmar och varfågel jagar sork och småfåglar bland vinterståndare. Med lite tur ser vi även stora sparvflockar eller rapphöns som trycker på åkrarna. \n  \nAnmälan: Ulrik.Lotberg@54u.se (Ulrik Lötberg).\nSamling: Kl 08.00 vid Trefaldighetskyrkan. \n 
URL:https://uppland.birdlife.se/program/ornar-och-vinterfaglar-runt-landsberga-och-rydaslatterna/
LOCATION:Helga Trefaldighetskyrkan\, Nathan Söderbloms plan\, Uppsala\, 753 10\, Sverige
CATEGORIES:Vandring
ATTACH;FMTTYPE=image/jpeg:https://cdn.birdlife.se/wp-content/uploads/sites/58/2024/10/Fjallvrak-i-flykten-Ammarnas-Image3-scaled.jpg
ORGANIZER;CN="BirdLife Uppland":MAILTO:info.uof@gmail.com
END:VEVENT
BEGIN:VEVENT
DTSTART;TZID=Europe/Stockholm:20250115T180000
DTEND;TZID=Europe/Stockholm:20250115T200000
DTSTAMP:20260419T143932
CREATED:20241212T234606Z
LAST-MODIFIED:20241222T120004Z
UID:10000060-1736964000-1736971200@uppland.birdlife.se
SUMMARY:Workshop för inventering av tjäder och tretåig hackspett
DESCRIPTION:Varmt välkomna till detta uppstartsmöte för inventering av tretåig hackspett och tjäder under våren 2025! Både du som varit med innan och du som är nyfiken nybörjare är välkomna. Emil V. Nilsson kommer att visa lite bilder och prata om hur inventeringen går till. Debora Arlt presenterar områden som tidigare inventerats och områden som är aktuella för inventering under våren. När det gäller tretåig hackspett så börjar vi att testa inventering med hjälp av små inspelningsapparater redan i februari. \nAnmälan: Ingen anmälan\nSamling: Kl 18 på Biotopia\, Biolabbet (ovanvåningen)
URL:https://uppland.birdlife.se/program/workshop-for-inventering-av-tjader-och-tretaig-hackspett/
LOCATION:Biotopia\, Vasagatan 4\, Uppsala\, 753 13\, Sverige
CATEGORIES:Föredrag
ATTACH;FMTTYPE=image/jpeg:https://cdn.birdlife.se/wp-content/uploads/sites/58/2023/06/tjader_JimmyPeterson-768x512-1-e1698082907690.jpg
ORGANIZER;CN="BirdLife Uppland":MAILTO:info.uof@gmail.com
END:VEVENT
BEGIN:VEVENT
DTSTART;TZID=Europe/Stockholm:20250114T183000
DTEND;TZID=Europe/Stockholm:20250114T200000
DTSTAMP:20260419T143932
CREATED:20241024T110306Z
LAST-MODIFIED:20241222T120022Z
UID:10000057-1736879400-1736884800@uppland.birdlife.se
SUMMARY:Föredrag: Att använda Artportalen
DESCRIPTION:2h \nSamuel Persson föreläser om Artportalen och hur vi kan använda det för rapportering och som källa till intressant och viktig information. Föreläsningen är till för er som är nya på Artportalen eller som är sugna på att börja. Den ges digitalt och länk till mötet skickas ut av Samuel efter anmälan. \n  \nAnmälan: samper97@gmail.com (Samuel Persson)\nSamling: Kl 18:30 (digital föreläsning)
URL:https://uppland.birdlife.se/program/foredrag-att-anvanda-artportalen/
LOCATION:Webbinarium\, -\, -\, Sverige
CATEGORIES:Föredrag
ATTACH;FMTTYPE=image/png:https://cdn.birdlife.se/wp-content/uploads/sites/58/2024/10/Artportalen.png
ORGANIZER;CN="BirdLife Uppland":MAILTO:info.uof@gmail.com
END:VEVENT
BEGIN:VEVENT
DTSTART;TZID=Europe/Stockholm:20241212T183000
DTEND;TZID=Europe/Stockholm:20241212T220000
DTSTAMP:20260419T143932
CREATED:20241024T110653Z
LAST-MODIFIED:20241024T152955Z
UID:10000059-1734028200-1734040800@uppland.birdlife.se
SUMMARY:Skådarpub på O’Connor’s
DESCRIPTION:Välkommen till en trevlig kväll där du får träffa andra fågelintresserade över lite god mat och dryck. Samtalen har tidigare kretsat kring minnesvärda fågelupplevelser\, äventyrliga skådaranekdoter\, roliga utflyktsmål och mycket annat. Om du ser detta på Facebook\, så visa gärna ditt intresse att komma\, eller kontakta PJ via mail. O’Connor’s är ganska populärt så vi måste boka bord. \n  \nSamling: Kl. 18:30 på O’Connor’s Stora Torget – Uppsala.\nVid frågor kontakta perjohan.ulfendahl@telia.com (Per Johan “PJ” Ulfendahl).
URL:https://uppland.birdlife.se/program/skadarpub-pa-oconnors-3/
LOCATION:O’Connor’s\, Stora TORGET\, Uppsala\, 753 20\, Sweden
CATEGORIES:Övrigt
ATTACH;FMTTYPE=image/png:https://cdn.birdlife.se/wp-content/uploads/sites/58/2024/07/AI_generated-e1721850374304.png
ORGANIZER;CN="BirdLife Uppland":MAILTO:info.uof@gmail.com
GEO:59.8582023;17.6388699
X-APPLE-STRUCTURED-LOCATION;VALUE=URI;X-ADDRESS=O’Connor’s Stora TORGET Uppsala 753 20 Sweden;X-APPLE-RADIUS=500;X-TITLE=Stora TORGET:geo:17.6388699,59.8582023
END:VEVENT
BEGIN:VEVENT
DTSTART;TZID=Europe/Stockholm:20241204T183000
DTEND;TZID=Europe/Stockholm:20241204T200000
DTSTAMP:20260419T143932
CREATED:20241024T105946Z
LAST-MODIFIED:20241203T083304Z
UID:10000056-1733337000-1733342400@uppland.birdlife.se
SUMMARY:Inneträff: Daniel Green om Guyana - INSTÄLLT
DESCRIPTION:Daniel Green berättar och visar bilder från det tämligen outforskade landet Guyana i norra Sydamerika med både sina spännande djur som jättemyrslokar\, anakondor och speciella fågelfauna\, med Guyana-sköldens många endemer och den mäktiga apörnen Harpyan. \n  \nAnmälan: Ingen anmälan.\nSamling: Kl 18:30 vid Ekmansalen på Evolutionsbiologiskt centrum i Uppsala\, Norbyvägen 14.
URL:https://uppland.birdlife.se/program/innetraff-daniel-green-om-guyana/
LOCATION:EBC Ekmansalen\, Norbyvägen 14\, Uppsala\, 752 36\, Sverige
CATEGORIES:Föredrag
ATTACH;FMTTYPE=image/png:https://cdn.birdlife.se/wp-content/uploads/sites/58/2024/10/8-kAzpID2kchCCVnH-e1729783626437.png
ORGANIZER;CN="BirdLife Uppland":MAILTO:info.uof@gmail.com
END:VEVENT
BEGIN:VEVENT
DTSTART;TZID=Europe/Stockholm:20241123T080000
DTEND;TZID=Europe/Stockholm:20241123T110000
DTSTAMP:20260419T143932
CREATED:20241024T105817Z
LAST-MODIFIED:20241024T151926Z
UID:10000055-1732348800-1732359600@uppland.birdlife.se
SUMMARY:Lördagsvandring Hågadalen
DESCRIPTION:Följ med och kika efter fåglar i Hågadalen. Vi går en promenad längs Hågaån och spanar i buskar och snår efter fåglar som rastar på sin väg söderut. Finkar och trastar samlas ofta på senhösten såsom grönfink\, björk- trast och med tur ser vi sidensvans och rödvingetrast bland bärbuskarna. \n  \nAnmälan: 073-553 93 96 (Henrik Bergendal)\nSamling: Kl 08:00 på Västertorg i Eriksberg.
URL:https://uppland.birdlife.se/program/lordagsvandring-hagadalen-2/
LOCATION:Västertorg\, Eriksberg\, Västertorg 3\, Uppsala\, 752 43\, Sverige
CATEGORIES:Vandring
ATTACH;FMTTYPE=image/jpeg:https://cdn.birdlife.se/wp-content/uploads/sites/58/2024/10/Rodvingetrast-SO-Foto-Tero-Niemi-Image3-scaled-e1729783147316.jpeg
ORGANIZER;CN="BirdLife Uppland":MAILTO:info.uof@gmail.com
END:VEVENT
BEGIN:VEVENT
DTSTART;TZID=Europe/Stockholm:20241120T183000
DTEND;TZID=Europe/Stockholm:20241120T200000
DTSTAMP:20260419T143932
CREATED:20241024T105613Z
LAST-MODIFIED:20241024T124157Z
UID:10000054-1732127400-1732132800@uppland.birdlife.se
SUMMARY:Inneträff: Quizkväll på Biotopia
DESCRIPTION:Kom till Biotopia denna onsdagskväll för fågelquiz och trevligt umgänge! Quizet är menat att passa dig som är ny eller något erfaren på fåglar. Det kommer att finnas något att dricka samt tilltugg. \n  \nAnmälan: Ulrik.Lotberg@54u.se (Ulrik Lötberg)\nSamling: Kl. 18:30 på Biotopia i Uppsala
URL:https://uppland.birdlife.se/program/innetraff-quizkvall-pa-biotopia/
LOCATION:Biotopia\, Vasagatan 4\, Uppsala\, 753 13\, Sverige
CATEGORIES:Övrigt
ATTACH;FMTTYPE=image/jpeg:https://cdn.birdlife.se/wp-content/uploads/sites/58/2024/02/Grahakedopping_Samuel_Persson_UOF_Biotopia-1-scaled.jpg
ORGANIZER;CN="BirdLife Uppland":MAILTO:info.uof@gmail.com
END:VEVENT
BEGIN:VEVENT
DTSTART;TZID=Europe/Stockholm:20241114T183000
DTEND;TZID=Europe/Stockholm:20241114T220000
DTSTAMP:20260419T143932
CREATED:20241024T105316Z
LAST-MODIFIED:20241024T110113Z
UID:10000053-1731609000-1731621600@uppland.birdlife.se
SUMMARY:Skådarpub på O’Connor’s
DESCRIPTION:Välkommen till en trevlig kväll där du får träffa andra fågelintresserade över lite god mat och dryck. Samtalen har tidigare kretsat kring minnesvärda fågelupplevelser\, äventyrliga skådaranekdoter\, roliga utflyktsmål och mycket annat. Om du ser detta på Facebook\, så visa gärna ditt intresse att komma\, eller kontakta PJ via mail. O’Connor’s är ganska populärt så vi måste boka bord. \n  \nSamling: Kl. 18:30 på O’Connor’s Stora Torget – Uppsala.\nVid frågor kontakta perjohan.ulfendahl@telia.com (Per Johan “PJ” Ulfendahl).
URL:https://uppland.birdlife.se/program/skadarpub-pa-oconnors-2/
LOCATION:O’Connor’s\, Stora TORGET\, Uppsala\, 753 20\, Sweden
CATEGORIES:Övrigt
ATTACH;FMTTYPE=image/png:https://cdn.birdlife.se/wp-content/uploads/sites/58/2024/07/AI_generated-e1721850374304.png
ORGANIZER;CN="BirdLife Uppland":MAILTO:info.uof@gmail.com
GEO:59.8582023;17.6388699
X-APPLE-STRUCTURED-LOCATION;VALUE=URI;X-ADDRESS=O’Connor’s Stora TORGET Uppsala 753 20 Sweden;X-APPLE-RADIUS=500;X-TITLE=Stora TORGET:geo:17.6388699,59.8582023
END:VEVENT
BEGIN:VEVENT
DTSTART;VALUE=DATE:20241101
DTEND;VALUE=DATE:20241201
DTSTAMP:20260419T143932
CREATED:20241013T064833Z
LAST-MODIFIED:20241013T095418Z
UID:10000051-1730419200-1733011199@uppland.birdlife.se
SUMMARY:Novemberrally 2024
DESCRIPTION:Vi kör ett klassiskt artrally när hösten känns som mörkast och dystras. Utmaningen är att se så många arter som möjligt inom Upplands gränser under november månad. Det finns en ekoklass (inte bilburen) och en öppen klass (bilburen). \nNedan följer information om vad som kommer att gälla för tävlingen. Eventuella tveksamheter utöver nedanstående regler avgörs av tävlingsledningen. \n  \nAnmälan \nGörs direkt i filen Novemberrally 2024. Skriv ditt för- och efternamn direkt i filen Novemberrally 2024. Det finns två flikar med två klasser\, du kan deltaga i båda. Sista anmälningsdag är 11 november 2024. \n  \nInstruktioner \nSe filen Novemberrally 2024 för mer instruktioner. \n  \nTävlingsregler \n\nTävlingen är begränsad inom landskapets Upplands gränser och pågår mellan 202401101-20241130\nTävlingen är indelad i två klasser\, ÖPPEN (bilburen) och EKO (inte bilburen) (till fots\, cyklande\, kollektiva färdmedel m.m. räknas in i den senare kategorin). \nDet är inte tillåtet att locka på fåglar med hjälp av bandspelare\, mobiltelefon\, mp3-spelare eller annan teknisk utrustning som tex järppipa. Det är dock tillåtet att på egen hand härma t.ex. sparvuggla efter bästa förmåga.\nHemlighetsmakeri kring rariteter och sällsynta arter är inte tillåtet\, varken före tävlingen eller under pågående tävling. Hittar man t.ex. vittrut\, berglärka\, hökuggla eller liknande ovanligare arter så måste man larma på Band eller BA (Bird Alarm) meddela eller tävlingsledningen. Undviker man detta får man ej tillgodoräkna sig arten i tävlingen! Vinterfynd av t.ex. rödhake\, kricka eller liknande arter är fullt tillåtet att hemlighålla.\nArter som ses inom inhägnade områden\, t.ex. Biotestsjön\, får endast räknas förutsatt att alla kan ta sig dit. Eventuella insläpp på områden och öppning av grindar eller bommar skall vara gemensamma för alla deltagare i tävlingen.\nFåglar som inte uppträder spontant får ej räknas.\nFör att i viss mån kompensera för miljöpåverkan har alla bilburna deltagare möjlighet att skänka t.ex. 1 kr för varje art som man noterat i tävlingen. Denna frivilliga avgift (utsläppsrätt) går oavkortat till fågelskyddsprojekt inom UOF\, Birdlife Uppland. (Även icke bilburna får naturligtvis också gärna skänka en slant.)\n\n  \nRapportera dina observationer! \nTävlingen kommer förhoppningsvis att upprepas under motsvarande årstid under flera år framåt och kan på så vis fungera som en bra inventering av landskapets vinterfåglar. Försök gärna att rapportera dina observationer så noga som möjligt i rapportsystemet Artportalen.
URL:https://uppland.birdlife.se/program/novemberrally-2024/
LOCATION:Uppland\, Uppland\, Sverige
CATEGORIES:Månadsrally
ATTACH;FMTTYPE=image/jpeg:https://cdn.birdlife.se/wp-content/uploads/sites/58/2024/10/Novemberrally-scaled.jpg
ORGANIZER;CN="BirdLife Uppland":MAILTO:info.uof@gmail.com
END:VEVENT
BEGIN:VEVENT
DTSTART;TZID=Europe/Stockholm:20241022T183000
DTEND;TZID=Europe/Stockholm:20241022T203000
DTSTAMP:20260419T143932
CREATED:20241013T094909Z
LAST-MODIFIED:20241024T111106Z
UID:10000052-1729621800-1729629000@uppland.birdlife.se
SUMMARY:Inneträff: Stora vadare
DESCRIPTION:Vi går igenom hur man art- och åldersbestämmer de vadare som normalt förekommer i Uppland. I våras körde vi småvadarna de s.k. Calidris-vadarna. Nu byter vi till de stora vadarna som Tringa-vadare och spovar. Ciceroner under mötet är Ulrik Lötberg och Henrik Bergendal. \n  \nAnmälan: Ingen anmälan\nSamling: Kl. 18:30 vid Ekmansalen på EBC (Zoologiska Institutionen\, Uppsala universitet) Norbyvägen 14.\nKostnad: inneträffen är gratis
URL:https://uppland.birdlife.se/program/innetraff-stora-vadare/
LOCATION:EBC Ekmansalen\, Norbyvägen 14\, Uppsala\, 752 36\, Sverige
ATTACH;FMTTYPE=image/jpeg:https://cdn.birdlife.se/wp-content/uploads/sites/58/2024/07/Gluttsnappa-2006-044-scaled.jpeg
ORGANIZER;CN="BirdLife Uppland":MAILTO:info.uof@gmail.com
END:VEVENT
BEGIN:VEVENT
DTSTART;TZID=Europe/Stockholm:20241019T070000
DTEND;TZID=Europe/Stockholm:20241019T100000
DTSTAMP:20260419T143932
CREATED:20240724T195123Z
LAST-MODIFIED:20240724T195123Z
UID:10000050-1729321200-1729332000@uppland.birdlife.se
SUMMARY:Lördagsvandring Hågadalen
DESCRIPTION:Följ med och kika efter fåglar i Hågadalen. Vi går en promenad längs Hågaån och spanar i buskar och snår efter fåglar som rastar på sin väg söderut. Kungsfåglar och gransångare noteras ibland i större antal och grönfink\, svarthätta och stenknäck brukar leta mat i bärbuskarna. \n  \nAnmälan: 073-553 93 96 (Henrik Bergendal)\nSamling: Kl 07:00 Västertorg i Eriksberg.\nKostnad: Ingen kostnad.
URL:https://uppland.birdlife.se/program/lordagsvandring-hagadalen/
LOCATION:Västertorg\, Eriksberg\, Västertorg 3\, Uppsala\, 752 43\, Sverige
ATTACH;FMTTYPE=image/jpeg:https://cdn.birdlife.se/wp-content/uploads/sites/58/2024/07/gronfink-2-scaled.jpg
ORGANIZER;CN="BirdLife Uppland":MAILTO:info.uof@gmail.com
END:VEVENT
BEGIN:VEVENT
DTSTART;TZID=Europe/Stockholm:20241017T183000
DTEND;TZID=Europe/Stockholm:20241017T230000
DTSTAMP:20260419T143932
CREATED:20240724T193458Z
LAST-MODIFIED:20241012T144746Z
UID:10000049-1729189800-1729206000@uppland.birdlife.se
SUMMARY:Skådarpub på O'Connor's
DESCRIPTION:Välkommen till en trevlig kväll där du får träffa andra fågelintresserade över lite god mat och dryck. Samtalen har tidigare kretsat kring minnesvärda fågelupplevelser\, äventyrliga skådaranekdoter\, roliga utflyktsmål och mycket annat. Om du ser detta på Facebook\, så visa gärna ditt intresse att komma\, eller kontakta PJ via mail. O’Connor’s är ganska populärt så vi måste boka bord. \n  \nSamling: Kl. 18:30 på O’Connor’s Stora Torget – Uppsala.\nVid frågor kontakta perjohan.ulfendahl@telia.com (Per Johan ”PJ” Ulfendahl).
URL:https://uppland.birdlife.se/program/skadarpub-pa-oconnors/
LOCATION:O’Connor’s\, Stora TORGET\, Uppsala\, 753 20\, Sweden
ATTACH;FMTTYPE=image/png:https://cdn.birdlife.se/wp-content/uploads/sites/58/2024/07/AI_generated-e1721850374304.png
ORGANIZER;CN="BirdLife Uppland":MAILTO:info.uof@gmail.com
GEO:59.8582023;17.6388699
X-APPLE-STRUCTURED-LOCATION;VALUE=URI;X-ADDRESS=O’Connor’s Stora TORGET Uppsala 753 20 Sweden;X-APPLE-RADIUS=500;X-TITLE=Stora TORGET:geo:17.6388699,59.8582023
END:VEVENT
END:VCALENDAR